BEGIN:VCALENDAR
VERSION:2.0
PRODID:-//IVO - ECPv5.16.4//NONSGML v1.0//EN
CALSCALE:GREGORIAN
METHOD:PUBLISH
X-WR-CALNAME:IVO
X-ORIGINAL-URL:https://ivonet.org/fr
X-WR-CALDESC:évènements pour IVO
BEGIN:VTIMEZONE
TZID:Europe/London
BEGIN:DAYLIGHT
TZOFFSETFROM:+0000
TZOFFSETTO:+0100
TZNAME:BST
DTSTART:20190331T010000
END:DAYLIGHT
BEGIN:STANDARD
TZOFFSETFROM:+0100
TZOFFSETTO:+0000
TZNAME:GMT
DTSTART:20191027T010000
END:STANDARD
END:VTIMEZONE
BEGIN:VEVENT
DTSTART;VALUE=DATE:20190912
DTEND;VALUE=DATE:20190913
DTSTAMP:20260424T080200
CREATED:20190814T083915Z
LAST-MODIFIED:20190814T084135Z
UID:1639-1568246400-1568332799@ivonet.org
SUMMARY:Journée thématique Maladies veineuses et artérielles (Angiologie)
DESCRIPTION:Idée du cours \nTransmission des connaissance concernant le traitement compressif\net les pathologies pour renforcer et promouvoir les\ncompétences de notre profession \nContenu du cours \n– Bloc 1 Angiologie: Exposé sur les pathologies\n– Bloc 2 Bandagiste: Traitement compressif\nDegrés de compression / Matériaux / Traitements\ncompressifs pour diabétiques / Soins cutanés\n– Bloc 3: Workshop\nTechniques de mesure / Aides à l‘enfilage / Exemples de cas\n– Bloc 4: Tarifs / Possibilités de décompte
URL:https://ivonet.org/fr/event/schwerpunkttag-venose-und-arterielle-erkrankungen-angiologie/
LOCATION:Stiftung Orte zum Leben\, Tiliastr. 2\, 5600 Lenzburg
END:VEVENT
END:VCALENDAR