BEGIN:VCALENDAR
VERSION:2.0
PRODID:-//IVO - ECPv5.16.4//NONSGML v1.0//EN
CALSCALE:GREGORIAN
METHOD:PUBLISH
X-WR-CALNAME:IVO
X-ORIGINAL-URL:https://ivonet.org/fr
X-WR-CALDESC:évènements pour IVO
BEGIN:VTIMEZONE
TZID:Europe/London
BEGIN:DAYLIGHT
TZOFFSETFROM:+0000
TZOFFSETTO:+0100
TZNAME:BST
DTSTART:20210328T010000
END:DAYLIGHT
BEGIN:STANDARD
TZOFFSETFROM:+0100
TZOFFSETTO:+0000
TZNAME:GMT
DTSTART:20211031T010000
END:STANDARD
END:VTIMEZONE
BEGIN:VEVENT
DTSTART;VALUE=DATE:20211022
DTEND;VALUE=DATE:20211024
DTSTAMP:20260419T190602
CREATED:20200205T143058Z
LAST-MODIFIED:20200205T145750Z
UID:1990-1634860800-1635033599@ivonet.org
SUMMARY:IVO congress 2021
DESCRIPTION:
URL:https://ivonet.org/fr/event/ivo-congress-2021/
LOCATION:Messe Cologne\, Messeplatz 1\, 50679 Cologne\, Cologne\, Germany
END:VEVENT
END:VCALENDAR