BEGIN:VCALENDAR
VERSION:2.0
PRODID:-//IVO - ECPv5.16.4//NONSGML v1.0//EN
CALSCALE:GREGORIAN
METHOD:PUBLISH
X-WR-CALNAME:IVO
X-ORIGINAL-URL:https://ivonet.org
X-WR-CALDESC:Events for IVO
BEGIN:VTIMEZONE
TZID:Europe/London
BEGIN:DAYLIGHT
TZOFFSETFROM:+0000
TZOFFSETTO:+0100
TZNAME:BST
DTSTART:20190331T010000
END:DAYLIGHT
BEGIN:STANDARD
TZOFFSETFROM:+0100
TZOFFSETTO:+0000
TZNAME:GMT
DTSTART:20191027T010000
END:STANDARD
END:VTIMEZONE
BEGIN:VEVENT
DTSTART;VALUE=DATE:20190912
DTEND;VALUE=DATE:20190913
DTSTAMP:20260424T013428
CREATED:20190814T083915Z
LAST-MODIFIED:20190814T084135Z
UID:1639-1568246400-1568332799@ivonet.org
SUMMARY:Schwerpunkttag Venöse und arterielle Erkrankungen (Angiologie)
DESCRIPTION:Kursidee \nVermitteln der Kenntnisse betreffend Kompressionstherapie\nund Krankheitsbilder zur Stärkung und Förderung der Kompetenz\nunseres Berufsstandes \nKursinhalt \nBlock 1 Angiologie: Referat betreffend der Krankheitsbilder\nBlock 2 Bandagist: Kompressionstherapien\nKompressionsklassen / Materialien / Kompressionstherapien\nbeim Diabetiker / Hautpflege\nBlock 3: Workshop\nMesstechniken / Anziehhilfen / Fallbeispiele\nBlock 4: Tarifwesen / Abrechnungsmöglichkeiten
URL:https://ivonet.org/event/schwerpunkttag-venose-und-arterielle-erkrankungen-angiologie/
LOCATION:Stiftung Orte zum Leben\, Tiliastr. 2\, 5600 Lenzburg
END:VEVENT
END:VCALENDAR