BEGIN:VCALENDAR
VERSION:2.0
PRODID:-//IVO - ECPv5.16.4//NONSGML v1.0//EN
CALSCALE:GREGORIAN
METHOD:PUBLISH
X-WR-CALNAME:IVO
X-ORIGINAL-URL:https://ivonet.org
X-WR-CALDESC:Events for IVO
BEGIN:VTIMEZONE
TZID:Europe/London
BEGIN:DAYLIGHT
TZOFFSETFROM:+0000
TZOFFSETTO:+0100
TZNAME:BST
DTSTART:20180325T010000
END:DAYLIGHT
BEGIN:STANDARD
TZOFFSETFROM:+0100
TZOFFSETTO:+0000
TZNAME:GMT
DTSTART:20181028T010000
END:STANDARD
END:VTIMEZONE
BEGIN:VEVENT
DTSTART;TZID=Europe/London:20180412T070000
DTEND;TZID=Europe/London:20180414T170000
DTSTAMP:20260424T045510
CREATED:20180314T190538Z
LAST-MODIFIED:20180404T104806Z
UID:586-1523516400-1523725200@ivonet.org
SUMMARY:IVO World congress - Canada
DESCRIPTION:
URL:https://ivonet.org/event/international-foot-health-symposium-4/
LOCATION:Westin Harbour Castle\, Toronto\, Canada
ATTACH;FMTTYPE=image/png:https://ivonet.org/wp-content/uploads/2018/03/mco-ivo_Prancheta-1.png
END:VEVENT
END:VCALENDAR