BEGIN:VCALENDAR
VERSION:2.0
PRODID:-//IVO - ECPv5.16.4//NONSGML v1.0//EN
CALSCALE:GREGORIAN
METHOD:PUBLISH
X-WR-CALNAME:IVO
X-ORIGINAL-URL:https://ivonet.org/de
X-WR-CALDESC:Veranstaltungen für IVO
BEGIN:VTIMEZONE
TZID:Europe/Luxembourg
BEGIN:DAYLIGHT
TZOFFSETFROM:+0100
TZOFFSETTO:+0200
TZNAME:CEST
DTSTART:20240331T010000
END:DAYLIGHT
BEGIN:STANDARD
TZOFFSETFROM:+0200
TZOFFSETTO:+0100
TZNAME:CET
DTSTART:20241027T010000
END:STANDARD
END:VTIMEZONE
BEGIN:VEVENT
DTSTART;VALUE=DATE:20241024
DTEND;VALUE=DATE:20241026
DTSTAMP:20260423T180908
CREATED:20240617T141412Z
LAST-MODIFIED:20240617T144040Z
UID:7198-1729728000-1729900799@ivonet.org
SUMMARY:24 + 25 OKTOBER 2024 FRIBOURG FORUM\, SCHWEIZ
DESCRIPTION:  \nDIE DREI KONGRESSPARTNER \nINTERNATIONALE VEREINIGUNG FÜR ORTHOPÄDISCHE SCHUHTECHNIK (IVO)\nDie IVO hat die Aufgabe\, die internationale Zusammenarbeit auf dem Gebiet der Orthopädieschuhtechnik zu fördern. Der IVO-Kongress findet alle drei Jahre statt\, wobei jede Veranstaltung in einem anderen Land abgehalten wird. Der Verband Fuss & Schuh hat sich um die Ausrichtung des Kongresses 2024 in der Schweiz beworben. Die Bewerbung wurde bewilligt. \nSCHWEIZERISCHER VERBAND FÜR PROTHETIK UND ORTHOPÄDIETECHNIK (APO)\nDie Schweizerische Arbeitsgemeinschaft für Prothetik und Orthetik (APO) bezweckt die wissenschaftliche Erforschung der Behandlung und Versorgung von Problemen des Bewegungsapparates. Die APO führt ihre zweitägige Jahrestagung einmal im Jahr in Freiburg durch. Die Jahrestagung findet nun in erweiterter Form als CONGRESS 2024 statt. \nSCHWEIZERISCHER FUSS- UND SCHUHVERBAND (FuS)\nDer Schweizerische Fuss- und Schuhverband ist seit 150 Jahren die Non-Profit-Organisation für das Schuhmacher- und Orthopädieschuhmacherhandwerk in der Schweiz. Er setzt sich für die von ihm angebotenen Grundqualifikationen Eidgenössisch diplomierter Schuhmacher (EFZ) und Eidgenössisch diplomierter Orthopädieschuhmacher ein und fördert den Nachwuchs in diesen Bereichen. Er wahrt die wirtschaftlichen und beruflichen Interessen seiner Mitglieder und fördert deren Leistungsfähigkeit durch berufliche Weiterbildung und Erfahrungsaustausch sowie durch die Durchführung von Fachtagungen und Kursen. Darüber hinaus fördert er die Zusammenarbeit zwischen Ärzten und staatlichen und privaten Versicherern sowie mit anderen Organisationen und Verbänden verwandter Berufe in der Schweiz.
URL:https://ivonet.org/de/event/pedorthic-conference-2022-2-2/
LOCATION:Forum Fribourg Expo Centre SA\, Route du Lac 12\, Fribourg\, 1763 Granges-Paccot\, Switzerland
END:VEVENT
END:VCALENDAR