BEGIN:VCALENDAR
VERSION:2.0
PRODID:-//IVO - ECPv5.16.4//NONSGML v1.0//EN
CALSCALE:GREGORIAN
METHOD:PUBLISH
X-WR-CALNAME:IVO
X-ORIGINAL-URL:https://ivonet.org/de
X-WR-CALDESC:Veranstaltungen für IVO
BEGIN:VTIMEZONE
TZID:Europe/London
BEGIN:DAYLIGHT
TZOFFSETFROM:+0000
TZOFFSETTO:+0100
TZNAME:BST
DTSTART:20190331T010000
END:DAYLIGHT
BEGIN:STANDARD
TZOFFSETFROM:+0100
TZOFFSETTO:+0000
TZNAME:GMT
DTSTART:20191027T010000
END:STANDARD
END:VTIMEZONE
BEGIN:VEVENT
DTSTART;TZID=Europe/London:20190222T080000
DTEND;TZID=Europe/London:20190224T170000
DTSTAMP:20260424T045240
CREATED:20190327T090140Z
LAST-MODIFIED:20190327T090202Z
UID:1369-1550822400-1551027600@ivonet.org
SUMMARY:Kobe Congress
DESCRIPTION:Seminar them on 22. Februar\, 10:00-17:30 Topic „Design & Performance“ \nOSM Michael Moeller und Dr. Ulrich Illgner  Orthotics for Diabetec patients with Plantar problems Medical approach and insole production \nOSM Anastasia Anastasiadu\, Fashionable Outsole design for Orthopedic shoes in praxis \nDr. Franz Landauer\, Influence of the Muscles in the development of the skeletal muscle design \nAll seminars are either held in Englisch or German and are translated into Japanese ! \n  \n15th JIVO Congress 23rd and 24th Februar\, Congress Topic „Design & Performance“ \nMain speaker „Special lectures“ Saturday: \nOSM Anastsia Anastasiadu: \nDesign and Performance of Pedorthic footwear\, Shoes anybody would like to wear (English translated into Japanese) \nTakami Saki (fashion designer): Are shoe`s Fashion Articles…? (In Japanese only!) \nMain Speaker „Special Lectures“ Sunday: \nDr. Hiro Terashi Kobe University Dabetes Clinic\, Taking Care of Diabetec Patients ( In Japanese Only) \nDr. Ulrich Illgner (Orthopedic clinic Koblenz) & OSM Michael Moeller\, Muenster (New approach to Diabetec Charcot foot and subsequent Footwear) \nEnglish or German translated into Japanese \nDr. CPO Franz Landauer\, Salzburg\, ( Foot operations to make shoe fitting easier) \nApart from that we also have a graduation exhibition of Shoes from Students of the Kobe College of Medical Welfare\, a small trade show and many Lectures of Japanese Pedorthist`s.
URL:https://ivonet.org/de/event/kobe-congress/
LOCATION:japan\, Japan
END:VEVENT
END:VCALENDAR